BEGIN:VCALENDAR
VERSION:2.0
PRODID:icalendar-ruby
CALSCALE:GREGORIAN
BEGIN:VEVENT
DTSTAMP:20260421T070921Z
UID:293b31a0-2d5d-49cd-bce3-30a70f6b18e6
DTSTART;VALUE=DATE:20211215
DESCRIPTION:Property ID# 523150\, Locatoin: 84 Walton Street\, Whangarei\, 
 Time: 12:00PM
SUMMARY:Auction for 
END:VEVENT
END:VCALENDAR
